BEGIN:VCALENDAR
VERSION:2.0
PRODID:-//Tucson Modern Quilt Guild - ECPv6.15.20//NONSGML v1.0//EN
CALSCALE:GREGORIAN
METHOD:PUBLISH
X-WR-CALNAME:Tucson Modern Quilt Guild
X-ORIGINAL-URL:https://tucsonmodernquilts.com
X-WR-CALDESC:Events for Tucson Modern Quilt Guild
REFRESH-INTERVAL;VALUE=DURATION:PT1H
X-Robots-Tag:noindex
X-PUBLISHED-TTL:PT1H
BEGIN:VTIMEZONE
TZID:UTC
BEGIN:STANDARD
TZOFFSETFROM:+0000
TZOFFSETTO:+0000
TZNAME:UTC
DTSTART:20240101T000000
END:STANDARD
END:VTIMEZONE
BEGIN:VEVENT
DTSTART;TZID=UTC:20251213T100000
DTEND;TZID=UTC:20251213T140000
DTSTAMP:20260423T160559
CREATED:20251002T033544Z
LAST-MODIFIED:20251211T013133Z
UID:12590-1765620000-1765634400@tucsonmodernquilts.com
SUMMARY:December 13\, 2025 Virtual Sew Day
DESCRIPTION:DECEMBER 13th is TMQG ZOOM SEW DAY\n\n\n\n\n\n\n\n\n\n\n\n\n\n\n\n\n\n\n\n\n\n\n\n\n\nRita Hipwood will be hosting a Zoom Sew Day on Saturday December 13th (instead of December 6th).    Get some last minute Holiday projects finished while chatting (or not!) with other guild members.   \n \nNever joined a Zoom sew day?   Easy!  Click the zoom link\, sign in using the meeting ID and passcode.   Sew in your own space and chat with others on zoom\, people come and go during the day – when you are ready to leave\, just tell everyone time for you to go and exit zoom.  You do not have to be on the call for the full time – just drop in or out as your schedule allows. \n \n \nTMQG is inviting you to a scheduled Zoom meeting.\n \nTopic: Saturday Sew Day\nTime: Dec 13\, 2025 10:00 AM Arizona\n        Every month on the Second Sat\, until Dec 12\, 2026\, 13 occurrence(s)\nPlease download and import the following iCalendar (.ics) files to your calendar system.\nMonthly: Join Zoom Meeting\n\n\n\n\n\n\n\n\n\n\n\n\n\n\n\n\n\nVirtual Sew Days on the  Saturday after the second Thursday monthly meeting. \nThe Zoom link will be e-mailed to all TMQG members on Thurs/Friday before the meeting. The zoom link is available  in the calendar.
URL:https://tucsonmodernquilts.com/event/december-6-2025-virtual-sew-day/
LOCATION:Your Own Home
CATEGORIES:All Events,Calendar,Virtual Sew Days
ATTACH;FMTTYPE=image/jpeg:https://tucsonmodernquilts.com/wp-content/uploads/2023/04/SewDIY-SingerReview-1.jpg
ORGANIZER;CN="TMQG":MAILTO:sewdays@tucsonmodernquilts.com
END:VEVENT
BEGIN:VEVENT
DTSTART;TZID=UTC:20251204T183000
DTEND;TZID=UTC:20251204T203000
DTSTAMP:20260423T160559
CREATED:20251002T032128Z
LAST-MODIFIED:20251002T032247Z
UID:12581-1764873000-1764880200@tucsonmodernquilts.com
SUMMARY:December 4\, 2025\, TMQG Meeting
DESCRIPTION:Monthly Meetings\n\n\n\n\nDecember 4\, 2025 Meeting is the FIRST Thursday of December and is from 6:30 to 8:00 pm at the  Jewish Community Center – 3800 E. River Road.\n\n\n\n\nMeeting Location\nEnter the Jewish Community Center from the north\, off River Rd and the south entrance from  Alvernon Way. \nDoors to the class room open at 6:15. \nThe main glass doors to enter the building may be locked so you’ll need to push the button and be “buzzed in”. \nThe agenda for the meeting is published on our Member Only Facebook Page and emailed to each member a few days before each meeting. \nThe last item on the Agenda is Show’N Tell. Members bring their quilts\, projects or even one finished block to show to the group. (See Show’N Tell in the Menu bar). \n\n  \n\n\n\nDecember 4\, 2025 **** ATTENTION*** This is the FIRST THURSDAY of December. The JCC needs our room at our usual day and time. \nGet ready for our Holiday Party Gift Exchange. Bring a gift you made to exchange/ Swap. Put the gift in a brown paper bag and include an index card with your name. We sit in a big circle and draw a name. That person picks a brown bag with a gift and opens it. They can keep it\, exchange or steal a gift from someone else. Its great fun. \n 
URL:https://tucsonmodernquilts.com/event/december-4-2025-tmqg-meeting/
LOCATION:Tucson Jewish Community Center\, 3800 E River RD\, Tucson\, AZ\, 85718\, United States
CATEGORIES:All Events,Calendar,Meetings
ATTACH;FMTTYPE=image/jpeg:https://tucsonmodernquilts.com/wp-content/uploads/2022/06/TMQG-logo.jpg
ORGANIZER;CN="TMQG":MAILTO:sewdays@tucsonmodernquilts.com
END:VEVENT
BEGIN:VEVENT
DTSTART;TZID=UTC:20251115T100000
DTEND;TZID=UTC:20251115T140000
DTSTAMP:20260423T160559
CREATED:20251002T033402Z
LAST-MODIFIED:20251002T033402Z
UID:12584-1763200800-1763215200@tucsonmodernquilts.com
SUMMARY:November 15\, 2025 Virtual Sew Day
DESCRIPTION:Virtual Sew Days on the  Saturday after the second Thursday monthly meeting. \nThe Zoom link will be e-mailed to all TMQG members on Thurs/Friday before the meeting. The zoom link is available  in the calendar.
URL:https://tucsonmodernquilts.com/event/november-15-2025-virtual-sew-day/
LOCATION:Your Own Home
CATEGORIES:All Events,Calendar,Virtual Sew Days
ATTACH;FMTTYPE=image/jpeg:https://tucsonmodernquilts.com/wp-content/uploads/2023/04/SewDIY-SingerReview-1.jpg
ORGANIZER;CN="TMQG":MAILTO:sewdays@tucsonmodernquilts.com
END:VEVENT
BEGIN:VEVENT
DTSTART;TZID=UTC:20251113T183000
DTEND;TZID=UTC:20251113T203000
DTSTAMP:20260423T160559
CREATED:20251002T030230Z
LAST-MODIFIED:20251002T031449Z
UID:12578-1763058600-1763065800@tucsonmodernquilts.com
SUMMARY:November 13\, 2025\, TMQG Meeting
DESCRIPTION:Monthly Meetings\n\n\n\n\nMeetings are the second Thursday of each month and are from 6:30 to 8:00 pm at the  Jewish Community Center – 3800 E. River Road.\n\n\n\n\nMeeting Location\nEnter the Jewish Community Center from the north\, off River Rd and the south entrance from  Alvernon Way. \nDoors to the class room open at 6:15. \nThe main glass doors to enter the building may be locked so you’ll need to push the button and be “buzzed in”. \nThe agenda for the meeting is published on our Member Only Facebook Page and emailed to each member a few days before each meeting. \nThe last item on the Agenda is Show’N Tell. Members bring their quilts\, projects or even one finished block to show to the group. (See Show’N Tell in the Menu bar). \n\n\n\n\nDates of Next Meetings\n\n\n\n\nNovember 13\, 2025 \nDecember 4\, 2025 Note This is the first Thursday of the month. Its our holiday gift exchange party! \n 
URL:https://tucsonmodernquilts.com/event/october-2025-tmqg-meeting/
LOCATION:Tucson Jewish Community Center\, 3800 E River RD\, Tucson\, AZ\, 85718\, United States
CATEGORIES:All Events,Calendar,Meetings
ATTACH;FMTTYPE=image/jpeg:https://tucsonmodernquilts.com/wp-content/uploads/2022/06/TMQG-logo.jpg
ORGANIZER;CN="TMQG":MAILTO:sewdays@tucsonmodernquilts.com
END:VEVENT
BEGIN:VEVENT
DTSTART;TZID=UTC:20251101T100000
DTEND;TZID=UTC:20251101T150000
DTSTAMP:20260423T160559
CREATED:20251002T034405Z
LAST-MODIFIED:20251002T034405Z
UID:12592-1761991200-1762009200@tucsonmodernquilts.com
SUMMARY:November 1\, 2025\, Hand Stitcher's Retreat
DESCRIPTION:Hand Stitcher’s Retreat
URL:https://tucsonmodernquilts.com/event/november-1-2025-hand-stitchers-retreat/
CATEGORIES:All Events,Calendar,Meetings
ATTACH;FMTTYPE=image/jpeg:https://tucsonmodernquilts.com/wp-content/uploads/2022/06/TMQG-logo.jpg
ORGANIZER;CN="TMQG":MAILTO:sewdays@tucsonmodernquilts.com
END:VEVENT
BEGIN:VEVENT
DTSTART;TZID=UTC:20251011T100000
DTEND;TZID=UTC:20251011T140000
DTSTAMP:20260423T160559
CREATED:20251002T033059Z
LAST-MODIFIED:20251002T033059Z
UID:12585-1760176800-1760191200@tucsonmodernquilts.com
SUMMARY:October 11\, 2025 Virtual Sew Day
DESCRIPTION:Virtual Sew Days on the  Saturday after the second Thursday monthly meeting. \nThe Zoom link will be e-mailed to all TMQG members on Thurs/Friday before the meeting. The zoom link is available  in the calendar.
URL:https://tucsonmodernquilts.com/event/october-11-2025-virtual-sew-day/
LOCATION:Your Own Home
CATEGORIES:All Events,Calendar,Virtual Sew Days
ATTACH;FMTTYPE=image/jpeg:https://tucsonmodernquilts.com/wp-content/uploads/2023/04/SewDIY-SingerReview-1.jpg
ORGANIZER;CN="TMQG":MAILTO:sewdays@tucsonmodernquilts.com
END:VEVENT
BEGIN:VEVENT
DTSTART;TZID=UTC:20251009T183000
DTEND;TZID=UTC:20251009T203000
DTSTAMP:20260423T160559
CREATED:20250413T054501Z
LAST-MODIFIED:20251002T033213Z
UID:12316-1760034600-1760041800@tucsonmodernquilts.com
SUMMARY:October 9\, 2025\, TMQG Meeting
DESCRIPTION:Monthly Meetings\n\n\n\n\nMeetings are the second Thursday of each month and are from 6:30 to 8:00 pm at the  Jewish Community Center – 3800 E. River Road.\n\n\n\n\nMeeting Location\nEnter the Jewish Community Center from the north\, off River Rd and the south entrance from  Alvernon Way. \nDoors to the class room open at 6:15. \nThe main glass doors to enter the building may be locked so you’ll need to push the button and be “buzzed in”. \nThe agenda for the meeting is published on our Member Only Facebook Page and emailed to each member a few days before each meeting. \nThe last item on the Agenda is Show’N Tell. Members bring their quilts\, projects or even one finished block to show to the group. (See Show’N Tell in the Menu bar). \n\n\n\n\nDates of Next Meetings\n\n\n\n\n  \nOctober 9\, 2025 \nNovember 13\, 2025 \nDecember 4\, 2025 Note This is the first Thursday of the month. Its our holiday gift exchange party! \n 
URL:https://tucsonmodernquilts.com/event/oct-tmqg-meeting/
LOCATION:Tucson Jewish Community Center\, 3800 E River RD\, Tucson\, AZ\, 85718\, United States
CATEGORIES:All Events,Calendar,Meetings
ATTACH;FMTTYPE=image/jpeg:https://tucsonmodernquilts.com/wp-content/uploads/2022/06/TMQG-logo.jpg
ORGANIZER;CN="TMQG":MAILTO:sewdays@tucsonmodernquilts.com
END:VEVENT
BEGIN:VEVENT
DTSTART;TZID=UTC:20250712T100000
DTEND;TZID=UTC:20250712T140000
DTSTAMP:20260423T160559
CREATED:20250413T060058Z
LAST-MODIFIED:20250413T060119Z
UID:12322-1752314400-1752328800@tucsonmodernquilts.com
SUMMARY:July 12\, 2025 Virtual Sew Day
DESCRIPTION:Virtual Sew Days on the  Saturday after the second Thursday monthly meeting. \nThe Zoom link will be e-mailed to all TMQG members on Thurs/Friday before the meeting. The zoom link is available  in the calendar.
URL:https://tucsonmodernquilts.com/event/july-12-2025-virtual-sew-day/
LOCATION:Your Own Home
CATEGORIES:All Events,Calendar,Virtual Sew Days
ATTACH;FMTTYPE=image/jpeg:https://tucsonmodernquilts.com/wp-content/uploads/2023/04/SewDIY-SingerReview-1.jpg
ORGANIZER;CN="TMQG":MAILTO:sewdays@tucsonmodernquilts.com
END:VEVENT
BEGIN:VEVENT
DTSTART;TZID=UTC:20250710T183000
DTEND;TZID=UTC:20250710T203000
DTSTAMP:20260423T160559
CREATED:20250413T054344Z
LAST-MODIFIED:20250413T054344Z
UID:12314-1752172200-1752179400@tucsonmodernquilts.com
SUMMARY:July TMQG Meeting
DESCRIPTION:Monthly Meetings\n\n\n\n\nMeetings are the second Thursday of each month and are from 6:30 to 8:00 pm at the  Jewish Community Center – 3800 E. River Road.\n\n\n\n\nMeeting Location\nEnter the Jewish Community Center from the north\, off River Rd and the south entrance from  Alvernon Way. \nDoors to the class room open at 6:15. \nThe main glass doors to enter the building may be locked so you’ll need to push the button and be “buzzed in”. \nThe agenda for the meeting is published on our Member Only Facebook Page and emailed to each member a few days before each meeting. \nThe last item on the Agenda is Show’N Tell. Members bring their quilts\, projects or even one finished block to show to the group. (See Show’N Tell in the Menu bar). \n\n\n\n\nDates of Next Meetings\n\n\n\n\nMay 8\, 2025 \nJune 12\, 2025 \nJuly 10\, 2025 \nAugust 14. 2025 \nSeptember 11\, 2025 \nOctober 9\, 2025 \nNovember 13\, 2025 \nDecember 11\, 2025 \n 
URL:https://tucsonmodernquilts.com/event/july-tmqg-meeting/
LOCATION:Tucson Jewish Community Center\, 3800 E River RD\, Tucson\, AZ\, 85718\, United States
CATEGORIES:All Events,Calendar,Meetings
ATTACH;FMTTYPE=image/jpeg:https://tucsonmodernquilts.com/wp-content/uploads/2022/06/TMQG-logo.jpg
ORGANIZER;CN="TMQG":MAILTO:sewdays@tucsonmodernquilts.com
END:VEVENT
BEGIN:VEVENT
DTSTART;TZID=UTC:20250615T100000
DTEND;TZID=UTC:20250615T140000
DTSTAMP:20260423T160559
CREATED:20240321T040937Z
LAST-MODIFIED:20250413T055955Z
UID:11085-1749981600-1749996000@tucsonmodernquilts.com
SUMMARY:June 15\, 2025 Virtual Sew Day
DESCRIPTION:Virtual Sew Days on the  Saturday after the second Thursday monthly meeting. \nThe Zoom link will be e-mailed to all TMQG members on Thurs/Friday before the meeting. The zoom link is available  in the calendar.
URL:https://tucsonmodernquilts.com/event/virtual-sew-day-2/
LOCATION:Your Own Home
CATEGORIES:All Events,Calendar,Virtual Sew Days
ATTACH;FMTTYPE=image/jpeg:https://tucsonmodernquilts.com/wp-content/uploads/2023/04/SewDIY-SingerReview-1.jpg
ORGANIZER;CN="TMQG":MAILTO:sewdays@tucsonmodernquilts.com
END:VEVENT
BEGIN:VEVENT
DTSTART;TZID=UTC:20250612T183000
DTEND;TZID=UTC:20250612T203000
DTSTAMP:20260423T160559
CREATED:20250413T054131Z
LAST-MODIFIED:20250413T054603Z
UID:12312-1749753000-1749760200@tucsonmodernquilts.com
SUMMARY:June TMQG Meeting
DESCRIPTION:Monthly Meetings\n\n\n\n\nMeetings are the second Thursday of each month and are from 6:30 to 8:00 pm at the  Jewish Community Center – 3800 E. River Road.\n\n\n\n\nMeeting Location\nEnter the Jewish Community Center from the north\, off River Rd and the south entrance from  Alvernon Way. \nDoors to the class room open at 6:15. \nThe main glass doors to enter the building may be locked so you’ll need to push the button and be “buzzed in”. \nThe agenda for the meeting is published on our Member Only Facebook Page and emailed to each member a few days before each meeting. \nThe last item on the Agenda is Show’N Tell. Members bring their quilts\, projects or even one finished block to show to the group. (See Show’N Tell in the Menu bar). \n\n\n\n\nDates of Next Meetings\n\n\n\n\nMay 8\, 2025 \nJune 12\, 2025 \nJuly 10\, 2025 \nAugust 14. 2025 \nSeptember 11\, 2025 \nOctober 9\, 2025 \nNovember 13\, 2025 \nDecember 11\, 2025 \n 
URL:https://tucsonmodernquilts.com/event/june-tmqg-meeting/
LOCATION:Tucson Jewish Community Center\, 3800 E River RD\, Tucson\, AZ\, 85718\, United States
CATEGORIES:All Events,Calendar,Meetings
ATTACH;FMTTYPE=image/jpeg:https://tucsonmodernquilts.com/wp-content/uploads/2022/06/TMQG-logo.jpg
ORGANIZER;CN="TMQG":MAILTO:sewdays@tucsonmodernquilts.com
END:VEVENT
BEGIN:VEVENT
DTSTART;TZID=UTC:20250531T100000
DTEND;TZID=UTC:20250531T140000
DTSTAMP:20260423T160559
CREATED:20250413T062549Z
LAST-MODIFIED:20250413T062549Z
UID:12335-1748685600-1748700000@tucsonmodernquilts.com
SUMMARY:In Person Sew Days At Fred Archer Center
DESCRIPTION:In Person Sew Days – \nThe First Monday of each month- \nThird Wednesday of each month- \nLast Saturday of each month- \nApril 2025 – 7\, 16\, 26 \nMay 2025- 5\, 21\, 31 \nJune 2025- 2\, 18\, 28 \n  \nBring your machine and project you want to work on\, and any sewing accessories you need. We have irons\, boards and cutting tables but please bring your own rotary cutter. \nLocated at the Fred Archer Center\, 1665 S. La Cholla Blvd. Tucson\, AZ 85713. \nCost is $1. We meet 10 am to 2 pm. \n  \nSew Days are for members only. \n 
URL:https://tucsonmodernquilts.com/event/in-person-sew-days-at-fred-archer-center-5/
LOCATION:Fred Archer Community Center\, 1665 S. La Cholla Blvd\, Tucson 85713\, Tucson\, AZ\, 85713\, United States
CATEGORIES:All Events,Calendar,Sew Days at Fred Archer Center
ATTACH;FMTTYPE=image/jpeg:https://tucsonmodernquilts.com/wp-content/uploads/2022/11/ironing-Quiltcon-2023-quilt-rotated.jpg
ORGANIZER;CN="TMQG":MAILTO:sewdays@tucsonmodernquilts.com
END:VEVENT
BEGIN:VEVENT
DTSTART;TZID=UTC:20250521T100000
DTEND;TZID=UTC:20250521T140000
DTSTAMP:20260423T160559
CREATED:20250413T062500Z
LAST-MODIFIED:20250413T062500Z
UID:12333-1747821600-1747836000@tucsonmodernquilts.com
SUMMARY:In Person Sew Days At Fred Archer Center
DESCRIPTION:In Person Sew Days – \nThe First Monday of each month- \nThird Wednesday of each month- \nLast Saturday of each month- \nApril 2025 – 7\, 16\, 26 \nMay 2025- 5\, 21\, 31 \nJune 2025- 2\, 18\, 28 \n  \nBring your machine and project you want to work on\, and any sewing accessories you need. We have irons\, boards and cutting tables but please bring your own rotary cutter. \nLocated at the Fred Archer Center\, 1665 S. La Cholla Blvd. Tucson\, AZ 85713. \nCost is $1. We meet 10 am to 2 pm. \n  \nSew Days are for members only. \n 
URL:https://tucsonmodernquilts.com/event/in-person-sew-days-at-fred-archer-center-4/
LOCATION:Fred Archer Community Center\, 1665 S. La Cholla Blvd\, Tucson 85713\, Tucson\, AZ\, 85713\, United States
CATEGORIES:All Events,Calendar,Sew Days at Fred Archer Center
ATTACH;FMTTYPE=image/jpeg:https://tucsonmodernquilts.com/wp-content/uploads/2022/11/ironing-Quiltcon-2023-quilt-rotated.jpg
ORGANIZER;CN="TMQG":MAILTO:sewdays@tucsonmodernquilts.com
END:VEVENT
BEGIN:VEVENT
DTSTART;TZID=UTC:20250517T090000
DTEND;TZID=UTC:20250517T160000
DTSTAMP:20260423T160559
CREATED:20250413T050730Z
LAST-MODIFIED:20250413T050933Z
UID:12297-1747472400-1747497600@tucsonmodernquilts.com
SUMMARY:Confetti Desert Quilt Class
DESCRIPTION:
URL:https://tucsonmodernquilts.com/event/confetti-desert-quilt-class/
LOCATION:Fred Archer Community Center\, 1665 S. La Cholla Blvd\, Tucson 85713\, Tucson\, AZ\, 85713\, United States
CATEGORIES:All Events,Calendar,Classes,Sew Days at Fred Archer Center
ORGANIZER;CN="Michele Vaughan":MAILTO:programs@tucsonmodernquilts.com
END:VEVENT
BEGIN:VEVENT
DTSTART;TZID=UTC:20250508T183000
DTEND;TZID=UTC:20250508T203000
DTSTAMP:20260423T160559
CREATED:20240321T041350Z
LAST-MODIFIED:20250413T055025Z
UID:11089-1746729000-1746736200@tucsonmodernquilts.com
SUMMARY:May TMQG Meeting
DESCRIPTION:Monthly Meetings\n\n\n\n\nMeetings are the second Thursday of each month and are from 6:30 to 8:00 pm at the  Jewish Community Center – 3800 E. River Road.\n\n\n\n\nMeeting Location\nEnter the Jewish Community Center from the north\, off River Rd and the south entrance from  Alvernon Way. \nDoors to the class room open at 6:15. \nThe main glass doors to enter the building may be locked so you’ll need to push the button and be “buzzed in”. \nThe agenda for the meeting is published on our Member Only Facebook Page and emailed to each member a few days before each meeting. \nThe last item on the Agenda is Show’N Tell. Members bring their quilts\, projects or even one finished block to show to the group. (See Show’N Tell in the Menu bar). \n\n\n\n\nDates of Next Meetings\n\n\n\n\nMay 8\, 2025 \nJune 12\, 2025 \nJuly 10\, 2025 \nAugust 14. 2025 \nSeptember 11\, 2025 \nOctober 9\, 2025 \nNovember 13\, 2025 \nDecember 11\, 2025 \n 
URL:https://tucsonmodernquilts.com/event/monthly-tmqg-meeting-4/
LOCATION:Tucson Jewish Community Center\, 3800 E River RD\, Tucson\, AZ\, 85718\, United States
CATEGORIES:All Events,Calendar,Meetings
ATTACH;FMTTYPE=image/jpeg:https://tucsonmodernquilts.com/wp-content/uploads/2022/06/TMQG-logo.jpg
ORGANIZER;CN="TMQG":MAILTO:sewdays@tucsonmodernquilts.com
END:VEVENT
BEGIN:VEVENT
DTSTART;TZID=UTC:20250505T100000
DTEND;TZID=UTC:20250505T140000
DTSTAMP:20260423T160559
CREATED:20250413T062400Z
LAST-MODIFIED:20250413T062400Z
UID:12331-1746439200-1746453600@tucsonmodernquilts.com
SUMMARY:In Person Sew Days At Fred Archer Center
DESCRIPTION:In Person Sew Days – \nThe First Monday of each month- \nThird Wednesday of each month- \nLast Saturday of each month- \nApril 2025 – 7\, 16\, 26 \nMay 2025- 5\, 21\, 31 \nJune 2025- 2\, 18\, 28 \n  \nBring your machine and project you want to work on\, and any sewing accessories you need. We have irons\, boards and cutting tables but please bring your own rotary cutter. \nLocated at the Fred Archer Center\, 1665 S. La Cholla Blvd. Tucson\, AZ 85713. \nCost is $1. We meet 10 am to 2 pm. \n  \nSew Days are for members only. \n 
URL:https://tucsonmodernquilts.com/event/in-person-sew-days-at-fred-archer-center-3/
LOCATION:Fred Archer Community Center\, 1665 S. La Cholla Blvd\, Tucson 85713\, Tucson\, AZ\, 85713\, United States
CATEGORIES:All Events,Calendar,Sew Days at Fred Archer Center
ATTACH;FMTTYPE=image/jpeg:https://tucsonmodernquilts.com/wp-content/uploads/2022/11/ironing-Quiltcon-2023-quilt-rotated.jpg
ORGANIZER;CN="TMQG":MAILTO:sewdays@tucsonmodernquilts.com
END:VEVENT
BEGIN:VEVENT
DTSTART;TZID=UTC:20250426T100000
DTEND;TZID=UTC:20250426T140000
DTSTAMP:20260423T160559
CREATED:20250413T062227Z
LAST-MODIFIED:20250413T062227Z
UID:12329-1745661600-1745676000@tucsonmodernquilts.com
SUMMARY:In Person Sew Days At Fred Archer Center
DESCRIPTION:In Person Sew Days – \nThe First Monday of each month- \nThird Wednesday of each month- \nLast Saturday of each month- \nApril 2025 – 7\, 16\, 26 \nMay 2025- 5\, 21\, 31 \nJune 2025- 2\, 18\, 28 \n  \nBring your machine and project you want to work on\, and any sewing accessories you need. We have irons\, boards and cutting tables but please bring your own rotary cutter. \nLocated at the Fred Archer Center\, 1665 S. La Cholla Blvd. Tucson\, AZ 85713. \nCost is $1. We meet 10 am to 2 pm. \n  \nSew Days are for members only. \n 
URL:https://tucsonmodernquilts.com/event/in-person-sew-days-at-fred-archer-center/
LOCATION:Fred Archer Community Center\, 1665 S. La Cholla Blvd\, Tucson 85713\, Tucson\, AZ\, 85713\, United States
CATEGORIES:All Events,Calendar,Sew Days at Fred Archer Center
ATTACH;FMTTYPE=image/jpeg:https://tucsonmodernquilts.com/wp-content/uploads/2022/11/ironing-Quiltcon-2023-quilt-rotated.jpg
ORGANIZER;CN="TMQG":MAILTO:sewdays@tucsonmodernquilts.com
END:VEVENT
BEGIN:VEVENT
DTSTART;TZID=UTC:20250419T130000
DTEND;TZID=UTC:20250419T160000
DTSTAMP:20260423T160559
CREATED:20250311T025348Z
LAST-MODIFIED:20250311T031735Z
UID:12232-1745067600-1745078400@tucsonmodernquilts.com
SUMMARY:Ice Dying Day 2
DESCRIPTION:
URL:https://tucsonmodernquilts.com/event/ice-dying-day-2/
LOCATION:Fred Archer Community Center\, 1665 S. La Cholla Blvd\, Tucson 85713\, Tucson\, AZ\, 85713\, United States
CATEGORIES:Calendar,Classes,Event
ORGANIZER;CN="Michele Vaughan":MAILTO:programs@tucsonmodernquilts.com
END:VEVENT
BEGIN:VEVENT
DTSTART;TZID=UTC:20250418T130000
DTEND;TZID=UTC:20250418T160000
DTSTAMP:20260423T160559
CREATED:20250311T025212Z
LAST-MODIFIED:20250311T031348Z
UID:12230-1744981200-1744992000@tucsonmodernquilts.com
SUMMARY:Ice Dying Day 1
DESCRIPTION:
URL:https://tucsonmodernquilts.com/event/ice-dying-day-1/
LOCATION:Fred Archer Community Center\, 1665 S. La Cholla Blvd\, Tucson 85713\, Tucson\, AZ\, 85713\, United States
CATEGORIES:All Events,Calendar,Classes,Event
ORGANIZER;CN="Michele Vaughan":MAILTO:programs@tucsonmodernquilts.com
END:VEVENT
BEGIN:VEVENT
DTSTART;TZID=UTC:20250416T100000
DTEND;TZID=UTC:20250416T140000
DTSTAMP:20260423T160559
CREATED:20250413T060611Z
LAST-MODIFIED:20250413T060944Z
UID:12324-1744797600-1744812000@tucsonmodernquilts.com
SUMMARY:In Person Sew Days At Fred Archer Center
DESCRIPTION:In Person Sew Days – \nThe First Monday of each month- \nThird Wednesday of each month- \nLast Saturday of each month- \nApril 2025 – 7\, 16\, 26 \nMay 2025- 5\, 21\, 31 \nJune 2025- 2\, 18\, 28 \n  \nBring your machine and project you want to work on\, and any sewing accessories you need. We have irons\, boards and cutting tables but please bring your own rotary cutter. \nLocated at the Fred Archer Center\, 1665 S. La Cholla Blvd. Tucson\, AZ 85713. \nCost is $1. We meet 10 am to 2 pm. \n  \nSew Days are for members only. \n 
URL:https://tucsonmodernquilts.com/event/in-person-sew-days-at-fred-archer-center-2/
LOCATION:Fred Archer Community Center\, 1665 S. La Cholla Blvd\, Tucson 85713\, Tucson\, AZ\, 85713\, United States
CATEGORIES:All Events,Calendar,Sew Days at Fred Archer Center
ATTACH;FMTTYPE=image/jpeg:https://tucsonmodernquilts.com/wp-content/uploads/2022/11/ironing-Quiltcon-2023-quilt-rotated.jpg
ORGANIZER;CN="TMQG":MAILTO:sewdays@tucsonmodernquilts.com
END:VEVENT
END:VCALENDAR